BEGIN:VCALENDAR
VERSION:2.0
PRODID:-//CIVIC Bangalore - ECPv6.15.13//NONSGML v1.0//EN
CALSCALE:GREGORIAN
METHOD:PUBLISH
X-ORIGINAL-URL:https://civicspace.in
X-WR-CALDESC:Events for CIVIC Bangalore
REFRESH-INTERVAL;VALUE=DURATION:PT1H
X-Robots-Tag:noindex
X-PUBLISHED-TTL:PT1H
BEGIN:VTIMEZONE
TZID:UTC
BEGIN:STANDARD
TZOFFSETFROM:+0000
TZOFFSETTO:+0000
TZNAME:UTC
DTSTART:20180101T000000
END:STANDARD
END:VTIMEZONE
BEGIN:VEVENT
DTSTART;TZID=UTC:20191003T090148
DTEND;TZID=UTC:20191003T090148
DTSTAMP:20260420T095933
CREATED:20191003T090146Z
LAST-MODIFIED:20191003T090146Z
UID:1449-1570093308-1570093308@civicspace.in
SUMMARY:Public consultation on Unorganised Social Security Act 2008 \,board functionings and book release
DESCRIPTION:Public consultation on Unorganised Social Security Act 2008 \,board functionings and book release\n\nDate: \n\nMonday\, January 25\, 2016 – 2:00pm\n\n\n\nVenue: \n\nJain College\, Palace road\, near Atria hotel\n\n\n\n\n\nState Level Public Consultation on Unorganised Workers Social Security Act 2008 and Functioning of Karnataka Unorganised Workers Social Security Board was organised on 25-1-2015 at Jain University\, Bangalore. The programme was organised by Asanghaditha Karmikara Samjika Bhadrata Vedike (Forum for Unorganised Workers Social Security). The Member organisations of this Federation are: APSA\, Asha Ankura\, CIVIC Bangalore\, CFAR\, CARE\, Bridge network\, Domestic Workers Rights Union\, Karnataka Domestic Workers Movement\, Indian Social Institute\, Karnataka Kattada Karmikara Union\, Jeevika\, Alternative Law Forum and Radio Active.\nShri Sripada\, Joint Labour Commissioner and Joint Secretary\, Karnataka Unorganised Workers Social Security Board and other members of the Board participated in the Consultation \n  \n\npicture gallery: 
URL:https://civicspace.in/event2/public-consultation-on-unorganised-social-security-act-2008-board-functionings-and-book-release/
LOCATION:NY\, United States
CATEGORIES:Community,Food,Music,Outreach
ATTACH;FMTTYPE=image/jpeg:https://civicspace.in/wp-content/uploads/2019/10/pic-1.jpg
END:VEVENT
END:VCALENDAR