BEGIN:VCALENDAR
VERSION:2.0
PRODID:-//CIVIC Bangalore - ECPv6.15.13//NONSGML v1.0//EN
CALSCALE:GREGORIAN
METHOD:PUBLISH
X-WR-CALNAME:CIVIC Bangalore
X-ORIGINAL-URL:https://civicspace.in
X-WR-CALDESC:Events for CIVIC Bangalore
REFRESH-INTERVAL;VALUE=DURATION:PT1H
X-Robots-Tag:noindex
X-PUBLISHED-TTL:PT1H
BEGIN:VTIMEZONE
TZID:Asia/Kolkata
BEGIN:STANDARD
TZOFFSETFROM:+0530
TZOFFSETTO:+0530
TZNAME:IST
DTSTART:20220101T000000
END:STANDARD
END:VTIMEZONE
BEGIN:VEVENT
DTSTART;TZID=Asia/Kolkata:20230812T093000
DTEND;TZID=Asia/Kolkata:20230812T160000
DTSTAMP:20260419T142507
CREATED:20230804T061245Z
LAST-MODIFIED:20230810T050855Z
UID:4352-1691832600-1691856000@civicspace.in
SUMMARY:Swaraj For Cities - Session 2
DESCRIPTION:We request your presence as an attendee in Swaraj for Cities (Episode 2) IRL (Hybrid) event titled Urban Governance in Karnataka. \n\nIn this edition of Swaraj for Cities\, we hold the lens on the state of Karnataka\, for the progress it has made in its urban centres\, in terms of decentralisation\, devolution and subsidiarity. Is there a conscious effort to ensure that there is planned growth and urban governance as prescribed in our constitution?\n\nJoin us for a full day event at the Bangalore International Centre\, for a series of sessions\, with eminent experts and diverse personalities\, as we explore the question of Karnataka’s cities and a special session on Bengaluru\, its capital city\, which has been coming under increasing scrutiny\, and garnering negative attention\, with even the Supreme Court chastising it for unplanned growth\, and  media articles terming it a ruined city. Can Bengaluru find its way out of the quagmire it is in?\n\nSwaraj for Cities is a nationwide initiative to help shape ‘Self Governance of Cities’. It is a year-long series of webinars\, hybrid conferences\, and publications that focuses on the Urban Challenge that India faces\, that of Planned and Orderly Growth\, and better governance of our cities\, towns and peri-urban areas; that is\, the fulfilment of the promise of the 74th Amendment of our Constitution. It has been initiated in collaboration with Habitat Forum INHAF\, Citizens Agenda for Bengaluru\, CIVIC Bangalore\, PRAJA Foundation\, and Making Model Gurugram. \n\n\nDate: 12th August 2023 (Saturday)\nTime: 9.30 am – 3 pm IST\nLocation: Bangalore International Centre (BIC)  Location on Google Map: https://goo.gl/maps/DiWv5cc5qfzUmp6MA \n \nPlease register your participation by clicking on the link below: bit.ly/registerforSFCPlease find the Poster along with the Schedule attached below. Do share this invitation widely amongst your network. \n\nWe look forward to your presence. INHAF’s previous Webinars can be found here.\n \nPlease follow the Swaraj For Cities series here:  inhaf.org/SwarajForCities
URL:https://civicspace.in/event2/swaraj-for-cities-webinar-episode-2/
CATEGORIES:Community
ATTACH;FMTTYPE=image/jpeg:https://civicspace.in/wp-content/uploads/2023/08/WhatsApp-Image-2023-08-03-at-21.11.50.jpg
END:VEVENT
END:VCALENDAR